BEGIN:VCALENDAR
VERSION:2.0
PRODID:-//eLama//Вебинары//RU
BEGIN:VTIMEZONE
TZID:Europe/Moscow
TZURL:http://tzurl.org/zoneinfo-outlook/Europe/Moscow
X-LIC-LOCATION:Europe/Moscow
BEGIN:STANDARD
TZOFFSETFROM:+0300
TZOFFSETTO:+0300
TZNAME:MSK
DTSTART:19700101T000000
END:STANDARD
END:VTIMEZONE
BEGIN:VEVENT
UID:webinar_946
DTSTART:20260330T130000
DTEND:20260330T163000
SUMMARY:Вебинар:Антихаос в инфлюенс-маркетинге в 2026 году
DESCRIPTION:Привет, вы зарегистрировались на вебинар "Антихаос в&nb
 sp;инфлюенс-маркетинге в 2026 году".\n\nОн начнется 30 
 марта, 13:00 (Московское время).\n\nЧтобы присоединиться дос
 таточно перейти по ссылке из письма на вашей 
 почте.Перед самым началом мы еще раз пришлем это письмо. Ино
 гда письма-напоминалки попадают в Спам, но мы надеемся,
  что все будет хорошо!\n\n2026 год усложняет правила игры. Получите четкую стратегию, 
 чтобы реклама у блогеров приносила прибыль без слива бюджета
 , даже когда рынок в хаосе. Вы узнаете, как повысить окупаем
 ость рекламы, как построить стратегию с нуля. Эксперты расск
 ажут о трендах, которые важно учитывать уже завтра. Обсудим 
 мифы, которые снижают эффективность рекламы.\n\nВ конце вебинара мы ответим на все ваши вопросы.
LOCATION;LANGUAGE=ru:Ссылка для подключения к вебинару в письме на вашей почте
URL: https://elama.ru/webinar/antihaos-v-inflyuens-marketinge-v-2026-godu/
DTSTAMP:20260220T214604Z
BEGIN:VALARM
ACTION:DISPLAY
DESCRIPTION:REMINDER
TRIGGER:-PT10M
END:VALARM
X-PUBLISHED-TTL:PT10M
END:VEVENT
END:VCALENDAR