BEGIN:VCALENDAR
VERSION:2.0
PRODID:-//eLama//Вебинары//RU
BEGIN:VTIMEZONE
TZID:Europe/Moscow
TZURL:http://tzurl.org/zoneinfo-outlook/Europe/Moscow
X-LIC-LOCATION:Europe/Moscow
BEGIN:STANDARD
TZOFFSETFROM:+0300
TZOFFSETTO:+0300
TZNAME:MSK
DTSTART:19700101T000000
END:STANDARD
END:VTIMEZONE
BEGIN:VEVENT
UID:webinar_1021
DTSTART:20260423T170000
DTEND:20260423T183000
SUMMARY:Вебинар:Деньги из Авито: рынок, тренды лидгена и как маркетологу под
 нять средний чек
DESCRIPTION:Привет, вы зарегистрировались на вебинар "Деньги из&nbs
 p;Авито: рынок, тренды лидгена и как маркетологу поднят
 ь средний чек".\n\nОн начнется 23 апреля, 17:00 (Московское 
 время).\n\nЧтобы присоединиться достаточно перейти по с
 сылке из письма на вашей почте.Перед самым началом
  мы еще раз пришлем это письмо. Иногда письма-напоминалки по
 падают в Спам, но мы надеемся, что все будет хорошо!\n\
 nНа вебинаре с экспертом по продвижению на&nbs
 p;Авито разберем, как меняется рынок интернет-рекламы и&nbsp
 ;какие возможности это открывает для агентств уже сейчас.\n\nВ конце вебинара мы ответим на все ваши вопросы.
LOCATION;LANGUAGE=ru:Ссылка для подключения к вебинару в письме на вашей почте
URL: https://elama.ru/webinar/dengi-iz-avito-rynok-trendy-lidgena-i-kak-marketologu-podnyat-sredniy-chek/
DTSTAMP:20260421T032906Z
BEGIN:VALARM
ACTION:DISPLAY
DESCRIPTION:REMINDER
TRIGGER:-PT10M
END:VALARM
X-PUBLISHED-TTL:PT10M
END:VEVENT
END:VCALENDAR