BEGIN:VCALENDAR
VERSION:2.0
PRODID:-//eLama//Вебинары//RU
BEGIN:VTIMEZONE
TZID:Europe/Moscow
TZURL:http://tzurl.org/zoneinfo-outlook/Europe/Moscow
X-LIC-LOCATION:Europe/Moscow
BEGIN:STANDARD
TZOFFSETFROM:+0300
TZOFFSETTO:+0300
TZNAME:MSK
DTSTART:19700101T000000
END:STANDARD
END:VTIMEZONE
BEGIN:VEVENT
UID:webinar_911
DTSTART:20260625T130000
DTEND:20260625T150000
SUMMARY:Вебинар:Почему инфлюенс-маркетинг не работает и как превратить его в
  стабильный источник заявок
DESCRIPTION:Привет, вы зарегистрировались на вебинар "Почему инфлюе
 нс-маркетинг не работает и как превратить его в&nb
 sp;стабильный источник заявок".\n\nОн начнется 25 июня, 13:0
 0 (Московское время).\n\nЧтобы присоединиться достаточно пер
 ейти по ссылке из письма на вашей почте.Перед
  самым началом мы еще раз пришлем это письмо. Иногда письма-
 напоминалки попадают в Спам, но мы надеемся, что все бу
 дет хорошо!\n\nПробовали рекламу у блогеров, но не увидели продаж   и
  решили, что это  не работает ? На бесплатном ве
 бинаре разберем, что может пойти не так и как превратить инф
 люенс-маркетинг в управляемый канал лидогенерации. Покажем, 
 что это не креативная лотерея, а система, которую можно стан
 дартизировать и масштабировать. Присоединяйтесь!\n\nВ конце вебинара мы ответим на все ваши вопросы.
LOCATION;LANGUAGE=ru:Ссылка для подключения к вебинару в письме на вашей почте
URL: https://elama.ru/webinar/inflyuens-marketing-kak-prevratit-byudzhety-na-blogerov-v-stabilnyy-potok-zayavok/
DTSTAMP:20251219T030543Z
BEGIN:VALARM
ACTION:DISPLAY
DESCRIPTION:REMINDER
TRIGGER:-PT10M
END:VALARM
X-PUBLISHED-TTL:PT10M
END:VEVENT
END:VCALENDAR