BEGIN:VCALENDAR
VERSION:2.0
PRODID:-//eLama//Вебинары//RU
BEGIN:VTIMEZONE
TZID:Europe/Moscow
TZURL:http://tzurl.org/zoneinfo-outlook/Europe/Moscow
X-LIC-LOCATION:Europe/Moscow
BEGIN:STANDARD
TZOFFSETFROM:+0300
TZOFFSETTO:+0300
TZNAME:MSK
DTSTART:19700101T000000
END:STANDARD
END:VTIMEZONE
BEGIN:VEVENT
UID:webinar_1022
DTSTART:20260528T170000
DTEND:20260528T183000
SUMMARY:Вебинар:Масштаб через сплит: лестница Ханта и Авито Реклама
DESCRIPTION:Привет, вы зарегистрировались на вебинар "Масштаб через
  сплит: лестница Ханта и Авито Реклама".\n\nОн нач
 нется 28 мая, 17:00 (Московское время).\n\nЧтобы присоединит
 ься достаточно перейти по ссылке из письма на&nbsp
 ;вашей почте.Перед самым началом мы еще раз пришлем это пись
 мо. Иногда письма-напоминалки попадают в Спам, но мы на
 деемся, что все будет хорошо!\n\nСкоро тут появится описание, а пока регистрируйтесь, чтобы н
 ичего не пропустить!\n\nВ конце вебинара мы ответим на все ваши вопросы.
LOCATION;LANGUAGE=ru:Ссылка для подключения к вебинару в письме на вашей почте
URL: https://elama.ru/webinar/masshtab-cherez-split-lestnica-hanta-i-avito-reklama/
DTSTAMP:20260421T034643Z
BEGIN:VALARM
ACTION:DISPLAY
DESCRIPTION:REMINDER
TRIGGER:-PT10M
END:VALARM
X-PUBLISHED-TTL:PT10M
END:VEVENT
END:VCALENDAR